BEGIN:VCALENDAR
VERSION:2.0
PRODID:-//AD08 | Tangipa - ECPv6.15.18//NONSGML v1.0//EN
CALSCALE:GREGORIAN
METHOD:PUBLISH
X-WR-CALNAME:AD08 | Tangipa
X-ORIGINAL-URL:https://ad08.asmrc.org
X-WR-CALDESC:Events for AD08 | Tangipa
REFRESH-INTERVAL;VALUE=DURATION:PT1H
X-Robots-Tag:noindex
X-PUBLISHED-TTL:PT1H
BEGIN:VTIMEZONE
TZID:UTC
BEGIN:STANDARD
TZOFFSETFROM:+0000
TZOFFSETTO:+0000
TZNAME:UTC
DTSTART:20240101T000000
END:STANDARD
END:VTIMEZONE
BEGIN:VEVENT
DTSTART;TZID=UTC:20250225T120000
DTEND;TZID=UTC:20250225T140000
DTSTAMP:20260422T002948
CREATED:20250127T214559Z
LAST-MODIFIED:20250127T223714Z
UID:7313-1740484800-1740492000@ad08.asmrc.org
SUMMARY:Madera Community Coffee
DESCRIPTION:Come join our Mobile Office Hours! \n\nReceive updates on legislation introduced by Assemblyman Tangipa\nLearn about our wildfire response and mitigation.\nGet connected with Team Tangipa and other local elected officials.\nAsk any questions you may have!\n\nAxis Coffee \n4150 Town Center Blvd #102 \nMadera\, CA 93636 \nTo RSVP\, please click here.
URL:https://ad08.asmrc.org/event/madera-community-coffee/
LOCATION:Axis Coffee\, 4150 Town Center Blvd #102\, Madera\, CA\, 93636\, United States
ATTACH;FMTTYPE=image/png:https://ad08.asmrc.org/wp-content/uploads/2025/01/Madera-Community-Coffee-2-25-25.png
END:VEVENT
END:VCALENDAR